Workbook
Name pp: 客運駕駛性別!$B$1:$N$6
Name pp: #REF!

Sheet 客運駕駛性別
A1: 桃園市市區客運駕駛員性別統計
M2: 單位：人
A3: 年底別 | C3: 合計 | D3: 統聯客運 | E3: 桃園客運 | F3: 亞通客運 | G3: 新竹客運 | H3: 中壢客運 | I3: 三重客運 | J3: 捷順客運 | K3: 指南客運 | L3: 金台通運 | M3: 台灣真好
A4: 100年底 | B4: 合計 | C4: =SUM(D4:H4) -> 434 | D4: =SUM(D5:D6) -> 21 | E4: =SUM(E5:E6) -> 260 | F4: =SUM(F5:F6) -> 67 | G4: =SUM(G5:G6) -> 4 | H4: =SUM(H5:H6) -> 82 | I4: … | J4: … | K4: …
B5: 男 | C5: =SUM(D5:H5) -> 428 | D5: 21 | E5: 257 | F5: 66 | G5: 4 | H5: 80 | I5: … | J5: … | K5: …
B6: 女 | C6: =SUM(D6:H6) -> 6 | D6: 0 | E6: 3 | F6: 1 | G6: 0 | H6: 2 | I6: … | J6: … | K6: …
A7: 101年底 | B7: 合計 | C7: =SUM(D7:H7) -> 467 | D7: =SUM(D8:D9) -> 34 | E7: =SUM(E8:E9) -> 272 | F7: =SUM(F8:F9) -> 67 | G7: =SUM(G8:G9) -> 1 | H7: =SUM(H8:H9) -> 93 | I7: … | J7: … | K7: …
B8: 男 | C8: =SUM(D8:H8) -> 462 | D8: 34 | E8: 270 | F8: 66 | G8: 1 | H8: 91 | I8: … | J8: … | K8: …
B9: 女 | C9: =SUM(D9:H9) -> 5 | D9: 0 | E9: 2 | F9: 1 | G9: 0 | H9: 2 | I9: … | J9: … | K9: …
A10: 102年底 | B10: 合計 | C10: =SUM(D10:H10) -> 469 | D10: =SUM(D11:D12) -> 34 | E10: =SUM(E11:E12) -> 277 | F10: =SUM(F11:F12) -> 68 | G10: =SUM(G11:G12) -> 1 | H10: =SUM(H11:H12) -> 89 | I10: … | J10: … | K10: …
B11: 男 | C11: =SUM(D11:H11) -> 464 | D11: 34 | E11: 275 | F11: 67 | G11: 1 | H11: 87 | I11: … | J11: … | K11: …
B12: 女 | C12: =SUM(D12:H12) -> 5 | D12: 0 | E12: 2 | F12: 1 | G12: 0 | H12: 2 | I12: … | J12: … | K12: …
A13: 103年底 | B13: 合計 | C13: =SUM(D13:H13) -> 475 | D13: 25 | E13: =SUM(E14:E15) -> 284 | F13: =SUM(F14:F15) -> 74 | G13: =SUM(G14:G15) -> 1 | H13: =SUM(H14:H15) -> 91 | I13: … | J13: … | K13: …
B14: 男 | C14: =SUM(D14:H14) -> 470 | D14: 25 | E14: 283 | F14: 73 | G14: 1 | H14: 88 | I14: … | J14: … | K14: …
B15: 女 | C15: =SUM(D15:H15) -> 5 | D15: 0 | E15: 1 | F15: 1 | G15: 0 | H15: 3 | I15: … | J15: … | K15: …
A16: 104年底 | B16: 合計 | C16: =SUM(D16:H16) -> 499 | D16: =D17+D18 -> 46 | E16: =E17+E18 -> 298 | F16: =F17+F18 -> 72 | G16: =G17+G18 -> 1 | H16: =H17+H18 -> 82 | I16: … | J16: … | K16: …
B17: 男 | C17: =SUM(D17:H17) -> 494 | D17: 44 | E17: 297 | F17: 72 | G17: 1 | H17: 80 | I17: … | J17: … | K17: …
B18: 女 | C18: =SUM(D18:H18) -> 5 | D18: 2 | E18: 1 | F18: 0 | G18: 0 | H18: 2 | I18: … | J18: … | K18: …
A19: 105年底 (註) | B19: 合計 | C19: =SUM(D19:K19) -> 1074 | D19: =SUM(D20:D21) -> 75 | E19: =SUM(E20:E21) -> 739 | F19: =SUM(F20:F21) -> 47 | G19: =SUM(G20:G21) -> 92 | H19: =SUM(H20:H21) -> 96 | I19: =SUM(I20:I21) -> 18 | J19: - | K19: =SUM(K20:K21) -> 7
B20: 男 | C20: =SUM(D20:K20) -> 1057 | D20: 73 | E20: 728 | F20: 47 | G20: 91 | H20: 93 | I20: 18 | J20: - | K20: 7
B21: 女 | C21: =SUM(D21:K21) -> 17 | D21: 2 | E21: 11 | F21: - | G21: 1 | H21: 3 | I21: - | J21: - | K21: -
A22: 106年底 | B22: 合計 | C22: =SUM(D22:K22) -> 999 | D22: =SUM(D23:D24) -> 78 | E22: =SUM(E23:E24) -> 709 | F22: - | G22: =SUM(G23:G24) -> 92 | H22: =SUM(H23:H24) -> 79 | I22: =SUM(I23:I24) -> 18 | J22: =SUM(J23:J24) -> 16 | K22: =SUM(K23:K24) -> 7
B23: 男 | C23: =SUM(D23:K23) -> 974 | D23: =[1]工作表3!$B$27 -> 75 | E23: =[1]工作表4!$B$37 -> 691 | F23: - | G23: =[1]工作表3!$B$70 -> 91 | H23: =[1]工作表3!$B$81 -> 76 | I23: =[1]工作表3!$B$16 -> 18 | J23: =[1]工作表3!$B$5 -> 16 | K23: =[1]工作表3!$B$59 -> 7
B24: 女 | C24: =SUM(D24:K24) -> 25 | D24: =[1]工作表3!$B$28 -> 3 | E24: =[1]工作表4!$B$38 -> 18 | F24: - | G24: =[1]工作表3!$B$71 -> 1 | H24: =[1]工作表3!$B$82 -> 3 | I24: - | J24: - | K24: -
A25: 107年底 | B25: 合計 | C25: =SUM(D25:K25) -> 1075 | D25: =SUM(D26:D27) -> 106 | E25: =SUM(E26:E27) -> 709 | F25: =SUM(F26:F27) -> 47 | G25: =SUM(G26:G27) -> 92 | H25: =SUM(H26:H27) -> 79 | I25: =SUM(I26:I27) -> 18 | J25: =SUM(J26:J27) -> 17 | K25: =SUM(K26:K27) -> 7
B26: 男 | C26: =SUM(D26:K26) -> 1049 | D26: =[1]工作表4!$B$16 -> 102 | E26: =[1]工作表4!$B$37 -> 691 | F26: =[1]工作表4!$B$5 -> 47 | G26: =[1]工作表3!$B$70 -> 91 | H26: =[1]工作表3!$B$81 -> 76 | I26: =[1]工作表3!$B$16 -> 18 | J26: =[1]工作表4!$B$26 -> 17 | K26: =[1]工作表3!$B$59 -> 7
B27: 女 | C27: =SUM(D27:K27) -> 26 | D27: =[1]工作表4!$B$17 -> 4 | E27: =[1]工作表4!$B$38 -> 18 | F27: - | G27: =[1]工作表3!$B$71 -> 1 | H27: =[1]工作表3!$B$82 -> 3 | I27: - | J27: - | K27: -
A28: 108年底 | B28: 合計 | C28: 1049 | D28: 118 | E28: 685 | F28: 50 | G28: 96 | H28: 60 | I28: 18 | J28: 18 | K28: 4 | M28: -
B29: 男 | C29: 1005 | D29: 112 | E29: 667 | F29: 50 | G29: 95 | H29: 59 | I29: 18 | J29: - | K29: 4 | M29: -
B30: 女 | C30: 44 | D30: 6 | E30: 18 | F30: - | G30: 1 | H30: 1 | I30: - | J30: 18 | K30: - | M30: -
A31: 109年底 | B31: 合計 | C31: =SUM(D31:K31) -> 902 | D31: =D32+D33 -> 109 | E31: =E32+E33 -> 528 | F31: =F32+F33 -> 54 | G31: =G32+G33 -> 90 | H31: =H32+H33 -> 55 | I31: =I32+I33 -> 36 | J31: =J32+J33 -> 17 | K31: =K32+K33 -> 13 | M31: -
B32: 男 | C32: =D32+E32+F32+G32+H32+I32+J32+K32 -> 877 | D32: 102 | E32: 514 | F32: 54 | G32: 89 | H32: 54 | I32: 35 | J32: 17 | K32: 12 | M32: -
B33: 女 | C33: =D33+E33+F33+G33+H33+I33+J33+K33 -> 25 | D33: 7 | E33: 14 | F33: 0 | G33: 1 | H33: 1 | I33: 1 | J33: 0 | K33: 1 | M33: -
A34: 110年底 | B34: 合計 | C34: =SUM(D34:M34) -> 929 | D34: 86 | E34: 610 | F34: 24 | G34: 69 | H34: 54 | I34: 36 | J34: 17 | K34: 16 | L34: 10 | M34: 7
B35: 男 | C35: =SUM(D35:M35) -> 904 | D35: 81 | E35: 594 | F35: 24 | G35: 68 | H35: 53 | I35: 35 | J35: 17 | K35: 15 | L35: 10 | M35: 7
B36: 女 | C36: =SUM(D36:M36) -> 25 | D36: 5 | E36: 16 | F36: 0 | G36: 1 | H36: 1 | I36: 1 | J36: 0 | K36: 1 | L36: 0 | M36: 0
A37: 111年底 | B37: 合計 | C37: 838 | D37: 88 | E37: 551 | F37: 18 | G37: 66 | H37: 46 | I37: 21 | J37: 16 | K37: 14 | L37: 10 | M37: 8
B38: 男 | C38: 814 | D38: 83 | E38: 536 | F38: 18 | G38: 65 | H38: 45 | I38: 20 | J38: 16 | K38: 14 | L38: 10 | M38: 7
B39: 女 | C39: 24 | D39: 5 | E39: 15 | F39: 0 | G39: 1 | H39: 1 | I39: 1 | J39: 0 | K39: 0 | L39: 0 | M39: 1
A40: 112年底 | B40: 合計 | C40: =C41+C42 -> 748 | D40: =D41+D42 -> 98 | E40: =E41+E42 -> 448 | F40: =F41+F42 -> 39 | G40: =G41+G42 -> 59 | H40: =H41+H42 -> 45 | I40: =I41+I42 -> 20 | J40: =J41+J42 -> 1 | ... M40: =M41+M42 -> 5
...
